BEGIN:VCALENDAR
VERSION:2.0
PRODID:-//KGS Arsbeck - ECPv4.6.8//NONSGML v1.0//EN
CALSCALE:GREGORIAN
METHOD:PUBLISH
X-WR-CALNAME:KGS Arsbeck
X-ORIGINAL-URL:http://www.kgsarsbeck.de
X-WR-CALDESC:Events for KGS Arsbeck
BEGIN:VEVENT
DTSTART;TZID=Europe/Berlin:20260610T100000
DTEND;TZID=Europe/Berlin:20260610T103000
DTSTAMP:20260420T035330
CREATED:20180503T205210Z
LAST-MODIFIED:20260215T150549Z
UID:7964-1781085600-1781087400@www.kgsarsbeck.de
SUMMARY:Monatsaktion
DESCRIPTION:alle Schülerinnen und Schüler des Standorts treffen sich zum gemeinsamen Singen und Vorstellen von Aktivitäten \n
URL:http://www.kgsarsbeck.de/termin/monatsaktion-2/
CATEGORIES:Termine
END:VEVENT
END:VCALENDAR