BEGIN:VCALENDAR
VERSION:2.0
PRODID:-//KGS Arsbeck - ECPv4.6.8//NONSGML v1.0//EN
CALSCALE:GREGORIAN
METHOD:PUBLISH
X-WR-CALNAME:KGS Arsbeck
X-ORIGINAL-URL:https://www.kgsarsbeck.de
X-WR-CALDESC:Events for KGS Arsbeck
BEGIN:VEVENT
DTSTART;TZID=Europe/Berlin:20230807T075000
DTEND;TZID=Europe/Berlin:20230807T112500
DTSTAMP:20260424T070047
CREATED:20170612T173540Z
LAST-MODIFIED:20230726T233623Z
UID:6554-1691394600-1691407500@www.kgsarsbeck.de
SUMMARY:1. Schultag
DESCRIPTION:Der Unterricht am 1. Schultag beginnt zur 1. Unterrichtsstunde und endet nach der 4. Unterrichtsstunde. \n
URL:https://www.kgsarsbeck.de/termin/1-schultag/
END:VEVENT
END:VCALENDAR