BEGIN:VCALENDAR
VERSION:2.0
PRODID:-//KGS Arsbeck - ECPv4.6.8//NONSGML v1.0//EN
CALSCALE:GREGORIAN
METHOD:PUBLISH
X-WR-CALNAME:KGS Arsbeck
X-ORIGINAL-URL:https://www.kgsarsbeck.de
X-WR-CALDESC:Events for KGS Arsbeck
BEGIN:VEVENT
DTSTART;TZID=Europe/Berlin:20250922T190000
DTEND;TZID=Europe/Berlin:20250922T213000
DTSTAMP:20260424T095924
CREATED:20160830T194829Z
LAST-MODIFIED:20250830T191529Z
UID:4928-1758567600-1758576600@www.kgsarsbeck.de
SUMMARY:1. Sitzung der Schulpflegschaft / Schulkonferenz
DESCRIPTION:
URL:https://www.kgsarsbeck.de/termin/1-sitzung-der-schulpflegschaft/
END:VEVENT
END:VCALENDAR