BEGIN:VCALENDAR
VERSION:2.0
PRODID:-//KGS Arsbeck - ECPv4.6.8//NONSGML v1.0//EN
CALSCALE:GREGORIAN
METHOD:PUBLISH
X-WR-CALNAME:KGS Arsbeck
X-ORIGINAL-URL:https://www.kgsarsbeck.de
X-WR-CALDESC:Events for KGS Arsbeck
BEGIN:VEVENT
DTSTART;TZID=Europe/Berlin:20260227T090000
DTEND;TZID=Europe/Berlin:20260227T123000
DTSTAMP:20260424T113306
CREATED:20180205T211800Z
LAST-MODIFIED:20260215T145631Z
UID:7672-1772182800-1772195400@www.kgsarsbeck.de
SUMMARY:Baumpflanztag
DESCRIPTION:Unsere Schülerinnen und Schüler pflanzen in Kooperation mit der Naturschutzstation Wildenrath und dem Förster neue Bäume im Dalheimer Wald. \n
URL:https://www.kgsarsbeck.de/termin/25-baumpflanztag/
END:VEVENT
END:VCALENDAR