BEGIN:VCALENDAR
VERSION:2.0
PRODID:-//KGS Arsbeck - ECPv4.6.8//NONSGML v1.0//EN
CALSCALE:GREGORIAN
METHOD:PUBLISH
X-WR-CALNAME:KGS Arsbeck
X-ORIGINAL-URL:https://www.kgsarsbeck.de
X-WR-CALDESC:Events for KGS Arsbeck
BEGIN:VEVENT
DTSTART;VALUE=DATE:20240510
DTEND;VALUE=DATE:20240511
DTSTAMP:20260424T082700
CREATED:20210822T120836Z
LAST-MODIFIED:20230727T003638Z
UID:12704-1715299200-1715385599@www.kgsarsbeck.de
SUMMARY:3. beweglicher Ferientag
DESCRIPTION:OGS Arsbeck zu\, OGS Wildenrath auf! \n
URL:https://www.kgsarsbeck.de/termin/3-beweglicher-ferientag/
END:VEVENT
END:VCALENDAR