BEGIN:VCALENDAR
VERSION:2.0
PRODID:-//KGS Arsbeck - ECPv4.6.8//NONSGML v1.0//EN
CALSCALE:GREGORIAN
METHOD:PUBLISH
X-WR-CALNAME:KGS Arsbeck
X-ORIGINAL-URL:https://www.kgsarsbeck.de
X-WR-CALDESC:Events for KGS Arsbeck
BEGIN:VEVENT
DTSTART;TZID=Europe/Berlin:20191202T080000
DTEND;TZID=Europe/Berlin:20191202T083000
DTSTAMP:20260424T100108
CREATED:20171204T215145Z
LAST-MODIFIED:20190902T174706Z
UID:6901-1575273600-1575275400@www.kgsarsbeck.de
SUMMARY:Adventsfeier
DESCRIPTION:
URL:https://www.kgsarsbeck.de/termin/adventsfeier-4/
END:VEVENT
END:VCALENDAR