BEGIN:VCALENDAR
VERSION:2.0
PRODID:-//KGS Arsbeck - ECPv4.6.8//NONSGML v1.0//EN
CALSCALE:GREGORIAN
METHOD:PUBLISH
X-WR-CALNAME:KGS Arsbeck
X-ORIGINAL-URL:https://www.kgsarsbeck.de
X-WR-CALDESC:Events for KGS Arsbeck
BEGIN:VEVENT
DTSTART;TZID=Europe/Berlin:20230921T000000
DTEND;TZID=Europe/Berlin:20230921T000000
DTSTAMP:20260424T064930
CREATED:20170918T085706Z
LAST-MODIFIED:20230726T235500Z
UID:6830-1695254400-1695254400@www.kgsarsbeck.de
SUMMARY:Anmeldung Schulneulinge 24/25
DESCRIPTION:Die Anmeldungen finden in der Verwaltung des Hauptstandortes in Arsbeck nach vorheriger telefonischer Terminabsprache statt. \n  \n
URL:https://www.kgsarsbeck.de/termin/anmeldungen-schulneulinge-201819-3/
END:VEVENT
END:VCALENDAR