BEGIN:VCALENDAR
VERSION:2.0
PRODID:-//KGS Arsbeck - ECPv4.6.8//NONSGML v1.0//EN
CALSCALE:GREGORIAN
METHOD:PUBLISH
X-WR-CALNAME:KGS Arsbeck
X-ORIGINAL-URL:https://www.kgsarsbeck.de
X-WR-CALDESC:Events for KGS Arsbeck
BEGIN:VEVENT
DTSTART;VALUE=DATE:20240212
DTEND;VALUE=DATE:20240213
DTSTAMP:20260424T051236
CREATED:20170529T181741Z
LAST-MODIFIED:20230726T230713Z
UID:6242-1707696000-1707782399@www.kgsarsbeck.de
SUMMARY:Rosenmontag
DESCRIPTION:1. Bewegl. Ferientag –  OGS geschlossen \n
URL:https://www.kgsarsbeck.de/termin/beweglicher-ferientag-2/
END:VEVENT
END:VCALENDAR