BEGIN:VCALENDAR
VERSION:2.0
PRODID:-//KGS Arsbeck - ECPv4.6.8//NONSGML v1.0//EN
CALSCALE:GREGORIAN
METHOD:PUBLISH
X-WR-CALNAME:KGS Arsbeck
X-ORIGINAL-URL:https://www.kgsarsbeck.de
X-WR-CALDESC:Events for KGS Arsbeck
BEGIN:VEVENT
DTSTART;TZID=Europe/Berlin:20190916T080000
DTEND;TZID=Europe/Berlin:20190916T113000
DTSTAMP:20260424T153530
CREATED:20190904T155832Z
LAST-MODIFIED:20190904T155832Z
UID:9631-1568620800-1568633400@www.kgsarsbeck.de
SUMMARY:Bustraining in Arsbeck
DESCRIPTION:Das Bustraining findet in Kooperation mit der WEST statt. Durchgeführt wird es von unserem Verkehrssicherheitsberater Herrn Hissel für unsere Schulneulinge und die Buskinder. \n
URL:https://www.kgsarsbeck.de/termin/bustraining-in-arsbeck/
END:VEVENT
END:VCALENDAR