BEGIN:VCALENDAR
VERSION:2.0
PRODID:-//KGS Arsbeck - ECPv4.6.8//NONSGML v1.0//EN
CALSCALE:GREGORIAN
METHOD:PUBLISH
X-WR-CALNAME:KGS Arsbeck
X-ORIGINAL-URL:https://www.kgsarsbeck.de
X-WR-CALDESC:Events for KGS Arsbeck
BEGIN:VEVENT
DTSTART;TZID=Europe/Berlin:20190917T081500
DTEND;TZID=Europe/Berlin:20190917T120000
DTSTAMP:20260424T152603
CREATED:20190904T155642Z
LAST-MODIFIED:20190904T155642Z
UID:9628-1568708100-1568721600@www.kgsarsbeck.de
SUMMARY:Bustraining in Wildenrath
DESCRIPTION:Das Bustraining findet in Kooperation mit der WEST statt. Durchgeführt wird es von unserem Verkehrssicherheitsberater Herrn Hissel für unsere Schulneulinge und die Buskinder. \n
URL:https://www.kgsarsbeck.de/termin/bustraining-in-wildenrath/
END:VEVENT
END:VCALENDAR