BEGIN:VCALENDAR
VERSION:2.0
PRODID:-//KGS Arsbeck - ECPv4.6.8//NONSGML v1.0//EN
CALSCALE:GREGORIAN
METHOD:PUBLISH
X-WR-CALNAME:KGS Arsbeck
X-ORIGINAL-URL:https://www.kgsarsbeck.de
X-WR-CALDESC:Events for KGS Arsbeck
BEGIN:VEVENT
DTSTART;VALUE=DATE:20260514
DTEND;VALUE=DATE:20260516
DTSTAMP:20260424T064653
CREATED:20170219T012514Z
LAST-MODIFIED:20260217T204034Z
UID:5657-1778716800-1778889599@www.kgsarsbeck.de
SUMMARY:Christi Himmelfahrt mit anschließendem Brückentag
DESCRIPTION:Donnerstag 14.05.     Feiertag \nFreitag 15.05.   OGS Arsbeck geschlossen\, OGS Wildenrath geöffnet \n
URL:https://www.kgsarsbeck.de/termin/christi-himmelfahrt/
CATEGORIES:Feiertag
END:VEVENT
END:VCALENDAR