BEGIN:VCALENDAR
VERSION:2.0
PRODID:-//KGS Arsbeck - ECPv4.6.8//NONSGML v1.0//EN
CALSCALE:GREGORIAN
METHOD:PUBLISH
X-WR-CALNAME:KGS Arsbeck
X-ORIGINAL-URL:https://www.kgsarsbeck.de
X-WR-CALDESC:Events for KGS Arsbeck
BEGIN:VEVENT
DTSTART;TZID=Europe/Berlin:20180423T100000
DTEND;TZID=Europe/Berlin:20180423T110000
DTSTAMP:20260424T134315
CREATED:20180418T201751Z
LAST-MODIFIED:20180418T201751Z
UID:7860-1524477600-1524481200@www.kgsarsbeck.de
SUMMARY:Dankmesse der Kommunionkinder in Arsbeck
DESCRIPTION:
URL:https://www.kgsarsbeck.de/termin/dankmesse-der-kommunionkinder-in-arsbeck/
END:VEVENT
END:VCALENDAR