BEGIN:VCALENDAR
VERSION:2.0
PRODID:-//KGS Arsbeck - ECPv4.6.8//NONSGML v1.0//EN
CALSCALE:GREGORIAN
METHOD:PUBLISH
X-WR-CALNAME:KGS Arsbeck
X-ORIGINAL-URL:https://www.kgsarsbeck.de
X-WR-CALDESC:Events for KGS Arsbeck
BEGIN:VEVENT
DTSTART;TZID=Europe/Berlin:20230808T081500
DTEND;TZID=Europe/Berlin:20230808T112500
DTSTAMP:20260424T070528
CREATED:20200812T200421Z
LAST-MODIFIED:20230726T234001Z
UID:11236-1691482500-1691493900@www.kgsarsbeck.de
SUMMARY:Einschulungsfeier Arsbeck Klasse 1a
DESCRIPTION:8.15  Uhr                  Gottesdienst \n9.15  Uhr                  Einschulungsfeier \n10.15 – 11.25 Uhr    1. Schulstunde \n
URL:https://www.kgsarsbeck.de/termin/einschulungsfeier-arsbeck-klasse-1a/
END:VEVENT
END:VCALENDAR