BEGIN:VCALENDAR
VERSION:2.0
PRODID:-//KGS Arsbeck - ECPv4.6.8//NONSGML v1.0//EN
CALSCALE:GREGORIAN
METHOD:PUBLISH
X-WR-CALNAME:KGS Arsbeck
X-ORIGINAL-URL:https://www.kgsarsbeck.de
X-WR-CALDESC:Events for KGS Arsbeck
BEGIN:VEVENT
DTSTART;TZID=Europe/Berlin:20230808T091500
DTEND;TZID=Europe/Berlin:20230808T114500
DTSTAMP:20260424T083606
CREATED:20200812T200520Z
LAST-MODIFIED:20230726T233928Z
UID:11238-1691486100-1691495100@www.kgsarsbeck.de
SUMMARY:Einschulungsfeier Wildenrath Klasse 1c
DESCRIPTION:9.15  Uhr                  Gottesdienst \n10.15  Uhr                Einschulungsfeier \n10.45 – 11.45 Uhr    1. Schulstunde \n
URL:https://www.kgsarsbeck.de/termin/einschulungsfeier-arsbeck-klasse-1b/
END:VEVENT
END:VCALENDAR