BEGIN:VCALENDAR
VERSION:2.0
PRODID:-//KGS Arsbeck - ECPv4.6.8//NONSGML v1.0//EN
CALSCALE:GREGORIAN
METHOD:PUBLISH
X-WR-CALNAME:KGS Arsbeck
X-ORIGINAL-URL:https://www.kgsarsbeck.de
X-WR-CALDESC:Events for KGS Arsbeck
BEGIN:VEVENT
DTSTART;TZID=Europe/Berlin:20200616T180000
DTEND;TZID=Europe/Berlin:20200616T203000
DTSTAMP:20260424T084045
CREATED:20200604T152201Z
LAST-MODIFIED:20200604T152201Z
UID:11167-1592330400-1592339400@www.kgsarsbeck.de
SUMMARY:Elternabend der Schulneulinge 2020/21
DESCRIPTION:18.00 Uhr / 19.30 Uhr \nDurchführung in kleineren Gruppen \n
URL:https://www.kgsarsbeck.de/termin/elternabend-der-schulneulinge-2020-21/
END:VEVENT
END:VCALENDAR