BEGIN:VCALENDAR
VERSION:2.0
PRODID:-//KGS Arsbeck - ECPv4.6.8//NONSGML v1.0//EN
CALSCALE:GREGORIAN
METHOD:PUBLISH
X-WR-CALNAME:KGS Arsbeck
X-ORIGINAL-URL:https://www.kgsarsbeck.de
X-WR-CALDESC:Events for KGS Arsbeck
BEGIN:VEVENT
DTSTART;VALUE=DATE:20240126
DTEND;VALUE=DATE:20240127
DTSTAMP:20260424T034802
CREATED:20170126T202840Z
LAST-MODIFIED:20230727T001840Z
UID:5539-1706227200-1706313599@www.kgsarsbeck.de
SUMMARY:Ende 1. Halbjahr mit Zeugnisausgabe
DESCRIPTION:
URL:https://www.kgsarsbeck.de/termin/ende-1-halbjahr-mit-zeugnisausgabe/
END:VEVENT
END:VCALENDAR