BEGIN:VCALENDAR
VERSION:2.0
PRODID:-//KGS Arsbeck - ECPv4.6.8//NONSGML v1.0//EN
CALSCALE:GREGORIAN
METHOD:PUBLISH
X-WR-CALNAME:KGS Arsbeck
X-ORIGINAL-URL:https://www.kgsarsbeck.de
X-WR-CALDESC:Events for KGS Arsbeck
BEGIN:VEVENT
DTSTART;TZID=Europe/Berlin:20180713T000000
DTEND;TZID=Europe/Berlin:20180713T000000
DTSTAMP:20260424T141445
CREATED:20170626T200739Z
LAST-MODIFIED:20180617T132247Z
UID:6578-1531440000-1531440000@www.kgsarsbeck.de
SUMMARY:Entlassgottesdienst der 4. Klassen
DESCRIPTION:Wildenrath: 8.15 Uhr \nArsbeck: 9.15 Uhr \n
URL:https://www.kgsarsbeck.de/termin/entlassgottesdienst-der-4-klassen/
END:VEVENT
END:VCALENDAR