BEGIN:VCALENDAR
VERSION:2.0
PRODID:-//KGS Arsbeck - ECPv4.6.8//NONSGML v1.0//EN
CALSCALE:GREGORIAN
METHOD:PUBLISH
X-WR-CALNAME:KGS Arsbeck
X-ORIGINAL-URL:https://www.kgsarsbeck.de
X-WR-CALDESC:Events for KGS Arsbeck
BEGIN:VEVENT
DTSTART;TZID=Europe/Berlin:20210908T080000
DTEND;TZID=Europe/Berlin:20210908T120000
DTSTAMP:20260424T112930
CREATED:20210819T192250Z
LAST-MODIFIED:20210819T192250Z
UID:12637-1631088000-1631102400@www.kgsarsbeck.de
SUMMARY:Flachsdiplom 3a
DESCRIPTION:
URL:https://www.kgsarsbeck.de/termin/flachsdiplom-3a/
END:VEVENT
END:VCALENDAR