BEGIN:VCALENDAR
VERSION:2.0
PRODID:-//KGS Arsbeck - ECPv4.6.8//NONSGML v1.0//EN
CALSCALE:GREGORIAN
METHOD:PUBLISH
X-WR-CALNAME:KGS Arsbeck
X-ORIGINAL-URL:https://www.kgsarsbeck.de
X-WR-CALDESC:Events for KGS Arsbeck
BEGIN:VEVENT
DTSTART;TZID=Europe/Berlin:20210922T080000
DTEND;TZID=Europe/Berlin:20210922T120000
DTSTAMP:20260424T082748
CREATED:20210819T192138Z
LAST-MODIFIED:20210819T192138Z
UID:12633-1632297600-1632312000@www.kgsarsbeck.de
SUMMARY:Flachsdiplom Kl. 3/4c
DESCRIPTION:
URL:https://www.kgsarsbeck.de/termin/flachsdiplom-kl-3-4c/
END:VEVENT
END:VCALENDAR