BEGIN:VCALENDAR
VERSION:2.0
PRODID:-//KGS Arsbeck - ECPv4.6.8//NONSGML v1.0//EN
CALSCALE:GREGORIAN
METHOD:PUBLISH
X-WR-CALNAME:KGS Arsbeck
X-ORIGINAL-URL:https://www.kgsarsbeck.de
X-WR-CALDESC:Events for KGS Arsbeck
BEGIN:VEVENT
DTSTART;VALUE=DATE:20240527
DTEND;VALUE=DATE:20240530
DTSTAMP:20260424T131500
CREATED:20180617T130755Z
LAST-MODIFIED:20230727T005024Z
UID:8124-1716768000-1717027199@www.kgsarsbeck.de
SUMMARY:Klassenfahrt Kl. 3b
DESCRIPTION:
URL:https://www.kgsarsbeck.de/termin/fluoridierung-3/
END:VEVENT
END:VCALENDAR