BEGIN:VCALENDAR
VERSION:2.0
PRODID:-//KGS Arsbeck - ECPv4.6.8//NONSGML v1.0//EN
CALSCALE:GREGORIAN
METHOD:PUBLISH
X-WR-CALNAME:KGS Arsbeck
X-ORIGINAL-URL:https://www.kgsarsbeck.de
X-WR-CALDESC:Events for KGS Arsbeck
BEGIN:VEVENT
DTSTART;TZID=Europe/Berlin:20231120T080000
DTEND;TZID=Europe/Berlin:20231120T120000
DTSTAMP:20260424T085029
CREATED:20181030T195958Z
LAST-MODIFIED:20230727T000750Z
UID:8782-1700467200-1700481600@www.kgsarsbeck.de
SUMMARY:Fluoridierung (Wildenrath)
DESCRIPTION:Maßnahme des Kreisgesundheitsamtes \n
URL:https://www.kgsarsbeck.de/termin/fluoridierung-4/
END:VEVENT
END:VCALENDAR