BEGIN:VCALENDAR
VERSION:2.0
PRODID:-//KGS Arsbeck - ECPv4.6.8//NONSGML v1.0//EN
CALSCALE:GREGORIAN
METHOD:PUBLISH
X-WR-CALNAME:KGS Arsbeck
X-ORIGINAL-URL:https://www.kgsarsbeck.de
X-WR-CALDESC:Events for KGS Arsbeck
BEGIN:VEVENT
DTSTART;TZID=Europe/Berlin:20190911T090000
DTEND;TZID=Europe/Berlin:20190911T100000
DTSTAMP:20260424T153250
CREATED:20190904T151843Z
LAST-MODIFIED:20190904T151843Z
UID:9623-1568192400-1568196000@www.kgsarsbeck.de
SUMMARY:Fotoaktion der RP
DESCRIPTION:Fotoaktion der RP für unsere Schulneulinge \n9.00 Uhr am Standort Arsbeck \n9.30 Uhr am Standort Wildenrath. \n
URL:https://www.kgsarsbeck.de/termin/fotoaktion-der-rp/
END:VEVENT
END:VCALENDAR