BEGIN:VCALENDAR
VERSION:2.0
PRODID:-//KGS Arsbeck - ECPv4.6.8//NONSGML v1.0//EN
CALSCALE:GREGORIAN
METHOD:PUBLISH
X-WR-CALNAME:KGS Arsbeck
X-ORIGINAL-URL:https://www.kgsarsbeck.de
X-WR-CALDESC:Events for KGS Arsbeck
BEGIN:VEVENT
DTSTART;VALUE=DATE:20171012
DTEND;VALUE=DATE:20171013
DTSTAMP:20260424T113643
CREATED:20170904T193745Z
LAST-MODIFIED:20170904T193745Z
UID:6756-1507766400-1507852799@www.kgsarsbeck.de
SUMMARY:Ganztagskonferenz
DESCRIPTION:Unterrichtsfrei- OGS ist geöffnet \n
URL:https://www.kgsarsbeck.de/termin/ganztagskonferenz/
END:VEVENT
END:VCALENDAR