BEGIN:VCALENDAR
VERSION:2.0
PRODID:-//KGS Arsbeck - ECPv4.6.8//NONSGML v1.0//EN
CALSCALE:GREGORIAN
METHOD:PUBLISH
X-WR-CALNAME:KGS Arsbeck
X-ORIGINAL-URL:https://www.kgsarsbeck.de
X-WR-CALDESC:Events for KGS Arsbeck
BEGIN:VEVENT
DTSTART;TZID=Europe/Berlin:20190124T080000
DTEND;TZID=Europe/Berlin:20190124T083000
DTSTAMP:20260424T065323
CREATED:20181030T195431Z
LAST-MODIFIED:20181030T195431Z
UID:8780-1548316800-1548318600@www.kgsarsbeck.de
SUMMARY:Gottesdienst
DESCRIPTION:Gottesdienst der Viertklässler in Arsbeck \n
URL:https://www.kgsarsbeck.de/termin/gottesdienst-2/
END:VEVENT
END:VCALENDAR