BEGIN:VCALENDAR
VERSION:2.0
PRODID:-//KGS Arsbeck - ECPv4.6.8//NONSGML v1.0//EN
CALSCALE:GREGORIAN
METHOD:PUBLISH
X-WR-CALNAME:KGS Arsbeck
X-ORIGINAL-URL:https://www.kgsarsbeck.de
X-WR-CALDESC:Events for KGS Arsbeck
BEGIN:VEVENT
DTSTART;TZID=Europe/Berlin:20170928T080000
DTEND;TZID=Europe/Berlin:20170928T084500
DTSTAMP:20260424T150959
CREATED:20170904T175912Z
LAST-MODIFIED:20170904T175912Z
UID:6747-1506585600-1506588300@www.kgsarsbeck.de
SUMMARY:Gottesdienst Kl. 2a/b
DESCRIPTION:
URL:https://www.kgsarsbeck.de/termin/gottesdienst-kl-2ab/
END:VEVENT
END:VCALENDAR