BEGIN:VCALENDAR
VERSION:2.0
PRODID:-//KGS Arsbeck - ECPv4.6.8//NONSGML v1.0//EN
CALSCALE:GREGORIAN
METHOD:PUBLISH
X-WR-CALNAME:KGS Arsbeck
X-ORIGINAL-URL:https://www.kgsarsbeck.de
X-WR-CALDESC:Events for KGS Arsbeck
BEGIN:VEVENT
DTSTART;TZID=Europe/Berlin:20160715T080000
DTEND;TZID=Europe/Berlin:20160715T110000
DTSTAMP:20260424T070210
CREATED:20170612T175737Z
LAST-MODIFIED:20170612T175737Z
UID:6556-1468569600-1468580400@www.kgsarsbeck.de
SUMMARY:Gottesdienst und Entlassung Klasse 4
DESCRIPTION:Gottesdienst in Wildenrath um 8.15 Uhr \nGottesdienst in Arsbeck um 9.00 Uhr \n  \n
URL:https://www.kgsarsbeck.de/termin/gottesdienst-und-entlassung-klasse-4/
END:VEVENT
END:VCALENDAR