BEGIN:VCALENDAR
VERSION:2.0
PRODID:-//KGS Arsbeck - ECPv4.6.8//NONSGML v1.0//EN
CALSCALE:GREGORIAN
METHOD:PUBLISH
X-WR-CALNAME:KGS Arsbeck
X-ORIGINAL-URL:https://www.kgsarsbeck.de
X-WR-CALDESC:Events for KGS Arsbeck
BEGIN:VEVENT
DTSTART;TZID=Europe/Berlin:20171222T080000
DTEND;TZID=Europe/Berlin:20171222T100000
DTSTAMP:20260424T083017
CREATED:20170912T193255Z
LAST-MODIFIED:20170912T193255Z
UID:6823-1513929600-1513936800@www.kgsarsbeck.de
SUMMARY:Gottesdienst vor Weihnachten
DESCRIPTION:
URL:https://www.kgsarsbeck.de/termin/gottesdienst-vor-weihnachten/
END:VEVENT
END:VCALENDAR