BEGIN:VCALENDAR
VERSION:2.0
PRODID:-//KGS Arsbeck - ECPv4.6.8//NONSGML v1.0//EN
CALSCALE:GREGORIAN
METHOD:PUBLISH
X-WR-CALNAME:KGS Arsbeck
X-ORIGINAL-URL:https://www.kgsarsbeck.de
X-WR-CALDESC:Events for KGS Arsbeck
BEGIN:VEVENT
DTSTART;TZID=Europe/Berlin:20230912T193000
DTEND;TZID=Europe/Berlin:20230912T210000
DTSTAMP:20260424T114446
CREATED:20210819T184232Z
LAST-MODIFIED:20230803T184625Z
UID:12610-1694547000-1694552400@www.kgsarsbeck.de
SUMMARY:Infoabend weiterführende Schule
DESCRIPTION:– digital – \n
URL:https://www.kgsarsbeck.de/termin/infoabend-weiterfuehrende-schule-2/
END:VEVENT
END:VCALENDAR