BEGIN:VCALENDAR
VERSION:2.0
PRODID:-//KGS Arsbeck - ECPv4.6.8//NONSGML v1.0//EN
CALSCALE:GREGORIAN
METHOD:PUBLISH
X-WR-CALNAME:KGS Arsbeck
X-ORIGINAL-URL:https://www.kgsarsbeck.de
X-WR-CALDESC:Events for KGS Arsbeck
BEGIN:VEVENT
DTSTART;VALUE=DATE:20240209
DTEND;VALUE=DATE:20240210
DTSTAMP:20260424T064756
CREATED:20170223T181548Z
LAST-MODIFIED:20230726T231028Z
UID:5661-1707436800-1707523199@www.kgsarsbeck.de
SUMMARY:Karnevalsfeiern der KGS Arsbeck
DESCRIPTION:An beiden Standorten finden Karnevalsfeiern statt. Schüler\, Lehrer und OGS- Mitarbeiter führen Programmpunkte auf. \n
URL:https://www.kgsarsbeck.de/termin/karnevalsfeier-arsbeck/
END:VEVENT
END:VCALENDAR