BEGIN:VCALENDAR
VERSION:2.0
PRODID:-//KGS Arsbeck - ECPv4.6.8//NONSGML v1.0//EN
CALSCALE:GREGORIAN
METHOD:PUBLISH
X-WR-CALNAME:KGS Arsbeck
X-ORIGINAL-URL:https://www.kgsarsbeck.de
X-WR-CALDESC:Events for KGS Arsbeck
BEGIN:VEVENT
DTSTART;TZID=Europe/Berlin:20220225T080000
DTEND;TZID=Europe/Berlin:20220225T120000
DTSTAMP:20260424T051105
CREATED:20210822T115746Z
LAST-MODIFIED:20210822T115746Z
UID:12677-1645776000-1645790400@www.kgsarsbeck.de
SUMMARY:Karnevalsfeier
DESCRIPTION:
URL:https://www.kgsarsbeck.de/termin/karnevalsfeier/
END:VEVENT
END:VCALENDAR