BEGIN:VCALENDAR
VERSION:2.0
PRODID:-//KGS Arsbeck - ECPv4.6.8//NONSGML v1.0//EN
CALSCALE:GREGORIAN
METHOD:PUBLISH
X-WR-CALNAME:KGS Arsbeck
X-ORIGINAL-URL:https://www.kgsarsbeck.de
X-WR-CALDESC:Events for KGS Arsbeck
BEGIN:VEVENT
DTSTART;VALUE=DATE:20240603
DTEND;VALUE=DATE:20240608
DTSTAMP:20260424T113503
CREATED:20160830T204035Z
LAST-MODIFIED:20230727T005002Z
UID:4970-1717372800-1717804799@www.kgsarsbeck.de
SUMMARY:Klassenfahrt Kl. 3a und 3/4c
DESCRIPTION:Klassenfahrt der beiden Klassen in das Waldheim Schlagstein. \n
URL:https://www.kgsarsbeck.de/termin/klassenfahrt-kl-4a-4b/
END:VEVENT
END:VCALENDAR