BEGIN:VCALENDAR
VERSION:2.0
PRODID:-//KGS Arsbeck - ECPv4.6.8//NONSGML v1.0//EN
CALSCALE:GREGORIAN
METHOD:PUBLISH
X-WR-CALNAME:KGS Arsbeck
X-ORIGINAL-URL:https://www.kgsarsbeck.de
X-WR-CALDESC:Events for KGS Arsbeck
BEGIN:VEVENT
DTSTART;TZID=Europe/Berlin:20180911T193000
DTEND;TZID=Europe/Berlin:20180911T213000
DTSTAMP:20260424T131127
CREATED:20180827T184255Z
LAST-MODIFIED:20180827T184255Z
UID:8544-1536694200-1536701400@www.kgsarsbeck.de
SUMMARY:Klassenpflegschaftssitzung
DESCRIPTION:1. Sitzung der Klassenpflegschaften der Kl. 3a/ 3b im Klassenraum. \n
URL:https://www.kgsarsbeck.de/termin/klassenpflegschaftssitzung-2/
END:VEVENT
END:VCALENDAR