BEGIN:VCALENDAR
VERSION:2.0
PRODID:-//KGS Arsbeck - ECPv4.6.8//NONSGML v1.0//EN
CALSCALE:GREGORIAN
METHOD:PUBLISH
X-WR-CALNAME:KGS Arsbeck
X-ORIGINAL-URL:https://www.kgsarsbeck.de
X-WR-CALDESC:Events for KGS Arsbeck
BEGIN:VEVENT
DTSTART;TZID=Europe/Berlin:20180912T200000
DTEND;TZID=Europe/Berlin:20180912T213000
DTSTAMP:20260424T114511
CREATED:20180827T184747Z
LAST-MODIFIED:20180827T185847Z
UID:8543-1536782400-1536787800@www.kgsarsbeck.de
SUMMARY:Klassenpflegschaftssitzung
DESCRIPTION:1. Sitzung der Klassenpflegschaften der Klassen 4a/ 4b. \n1. Sitzung der Klassenpflegschaften der JüL Klassen in Wildenrath. \n
URL:https://www.kgsarsbeck.de/termin/klassenpflegschaftssitzung-3/
END:VEVENT
END:VCALENDAR