BEGIN:VCALENDAR
VERSION:2.0
PRODID:-//KGS Arsbeck - ECPv4.6.8//NONSGML v1.0//EN
CALSCALE:GREGORIAN
METHOD:PUBLISH
X-WR-CALNAME:KGS Arsbeck
X-ORIGINAL-URL:https://www.kgsarsbeck.de
X-WR-CALDESC:Events for KGS Arsbeck
BEGIN:VEVENT
DTSTART;TZID=Europe/Berlin:20210823T000000
DTEND;TZID=Europe/Berlin:20210823T000000
DTSTAMP:20260424T101645
CREATED:20210302T155416Z
LAST-MODIFIED:20210815T121805Z
UID:11959-1629676800-1629676800@www.kgsarsbeck.de
SUMMARY:Klassenpflegschaftssitzung Klasse 4b
DESCRIPTION:
URL:https://www.kgsarsbeck.de/termin/klassenpflegschaftssitzung-jahrgang-4/
END:VEVENT
END:VCALENDAR