BEGIN:VCALENDAR
VERSION:2.0
PRODID:-//KGS Arsbeck - ECPv4.6.8//NONSGML v1.0//EN
CALSCALE:GREGORIAN
METHOD:PUBLISH
X-WR-CALNAME:KGS Arsbeck
X-ORIGINAL-URL:https://www.kgsarsbeck.de
X-WR-CALDESC:Events for KGS Arsbeck
BEGIN:VEVENT
DTSTART;TZID=Europe/Berlin:20190902T193000
DTEND;TZID=Europe/Berlin:20190902T210000
DTSTAMP:20260424T204823
CREATED:20190902T170227Z
LAST-MODIFIED:20190902T170227Z
UID:9555-1567452600-1567458000@www.kgsarsbeck.de
SUMMARY:Klassenpflegschaftssitzung Kl. 2a/ 2b
DESCRIPTION:
URL:https://www.kgsarsbeck.de/termin/klassenpflegschaftssitzung-kl-2a-2b/
END:VEVENT
END:VCALENDAR