BEGIN:VCALENDAR
VERSION:2.0
PRODID:-//KGS Arsbeck - ECPv4.6.8//NONSGML v1.0//EN
CALSCALE:GREGORIAN
METHOD:PUBLISH
X-WR-CALNAME:KGS Arsbeck
X-ORIGINAL-URL:https://www.kgsarsbeck.de
X-WR-CALDESC:Events for KGS Arsbeck
BEGIN:VEVENT
DTSTART;TZID=Europe/Berlin:20190904T190000
DTEND;TZID=Europe/Berlin:20190904T213000
DTSTAMP:20260424T205118
CREATED:20190902T170701Z
LAST-MODIFIED:20190902T170701Z
UID:9558-1567623600-1567632600@www.kgsarsbeck.de
SUMMARY:Klassenpflegschaftssitzung Kl. 3a/3b
DESCRIPTION:
URL:https://www.kgsarsbeck.de/termin/klassenpflegschaftssitzung-kl-3a-3b/
END:VEVENT
END:VCALENDAR