BEGIN:VCALENDAR
VERSION:2.0
PRODID:-//KGS Arsbeck - ECPv4.6.8//NONSGML v1.0//EN
CALSCALE:GREGORIAN
METHOD:PUBLISH
X-WR-CALNAME:KGS Arsbeck
X-ORIGINAL-URL:https://www.kgsarsbeck.de
X-WR-CALDESC:Events for KGS Arsbeck
BEGIN:VEVENT
DTSTART;TZID=Europe/Berlin:20190909T200000
DTEND;TZID=Europe/Berlin:20190909T213000
DTSTAMP:20260424T153821
CREATED:20190902T180700Z
LAST-MODIFIED:20190902T180700Z
UID:9576-1568059200-1568064600@www.kgsarsbeck.de
SUMMARY:Klassenpflegschaftssitzung Kl. 4a/ 4b/ JüLc/d/e
DESCRIPTION:
URL:https://www.kgsarsbeck.de/termin/klassenpflegschaftssitzung-kl-4a-4b-juelc-d-e/
END:VEVENT
END:VCALENDAR