BEGIN:VCALENDAR
VERSION:2.0
PRODID:-//KGS Arsbeck - ECPv4.6.8//NONSGML v1.0//EN
CALSCALE:GREGORIAN
METHOD:PUBLISH
X-WR-CALNAME:KGS Arsbeck
X-ORIGINAL-URL:https://www.kgsarsbeck.de
X-WR-CALDESC:Events for KGS Arsbeck
BEGIN:VEVENT
DTSTART;TZID=Europe/Berlin:20210831T180000
DTEND;TZID=Europe/Berlin:20210831T190000
DTSTAMP:20260424T133229
CREATED:20210302T155542Z
LAST-MODIFIED:20210819T183635Z
UID:11963-1630432800-1630436400@www.kgsarsbeck.de
SUMMARY:Klassenpflegschaftssitzung Klasse 2c
DESCRIPTION:– digital – \n
URL:https://www.kgsarsbeck.de/termin/klassenpflegschaftssitzung-klasse-2b/
END:VEVENT
END:VCALENDAR