BEGIN:VCALENDAR
VERSION:2.0
PRODID:-//KGS Arsbeck - ECPv4.6.8//NONSGML v1.0//EN
CALSCALE:GREGORIAN
METHOD:PUBLISH
X-WR-CALNAME:KGS Arsbeck
X-ORIGINAL-URL:https://www.kgsarsbeck.de
X-WR-CALDESC:Events for KGS Arsbeck
BEGIN:VEVENT
DTSTART;TZID=Europe/Berlin:20210830T190000
DTEND;TZID=Europe/Berlin:20210830T200000
DTSTAMP:20260424T133144
CREATED:20210302T155632Z
LAST-MODIFIED:20210823T195740Z
UID:11965-1630350000-1630353600@www.kgsarsbeck.de
SUMMARY:Klassenpflegschaftssitzung Klasse 3c/4c
DESCRIPTION:– digital – \n
URL:https://www.kgsarsbeck.de/termin/klassenpflegschaftssitzung-klasse-2c-3c/
END:VEVENT
END:VCALENDAR