BEGIN:VCALENDAR
VERSION:2.0
PRODID:-//KGS Arsbeck - ECPv4.6.8//NONSGML v1.0//EN
CALSCALE:GREGORIAN
METHOD:PUBLISH
X-WR-CALNAME:KGS Arsbeck
X-ORIGINAL-URL:https://www.kgsarsbeck.de
X-WR-CALDESC:Events for KGS Arsbeck
BEGIN:VEVENT
DTSTART;TZID=Europe/Berlin:20210901T000000
DTEND;TZID=Europe/Berlin:20210901T000000
DTSTAMP:20260424T133842
CREATED:20210302T155712Z
LAST-MODIFIED:20210815T122014Z
UID:11967-1630454400-1630454400@www.kgsarsbeck.de
SUMMARY:Klassenpflegschaftssitzungen Klassen 3a und 3b
DESCRIPTION:
URL:https://www.kgsarsbeck.de/termin/klassenpflegschaftssitzung-klasse-3a/
END:VEVENT
END:VCALENDAR