BEGIN:VCALENDAR
VERSION:2.0
PRODID:-//KGS Arsbeck - ECPv4.6.8//NONSGML v1.0//EN
CALSCALE:GREGORIAN
METHOD:PUBLISH
X-WR-CALNAME:KGS Arsbeck
X-ORIGINAL-URL:https://www.kgsarsbeck.de
X-WR-CALDESC:Events for KGS Arsbeck
BEGIN:VEVENT
DTSTART;TZID=Europe/Berlin:20180910T193000
DTEND;TZID=Europe/Berlin:20180910T213000
DTSTAMP:20260424T130306
CREATED:20180827T184015Z
LAST-MODIFIED:20180827T184015Z
UID:8541-1536607800-1536615000@www.kgsarsbeck.de
SUMMARY:Klassenpflegschaftssitzung
DESCRIPTION:1. Sitzung der Klassenpflegschaften der Kl. 2a/ 2b im Klassenraum. \n
URL:https://www.kgsarsbeck.de/termin/klassenpflegschaftssitzung/
END:VEVENT
END:VCALENDAR