BEGIN:VCALENDAR
VERSION:2.0
PRODID:-//KGS Arsbeck - ECPv4.6.8//NONSGML v1.0//EN
CALSCALE:GREGORIAN
METHOD:PUBLISH
X-WR-CALNAME:KGS Arsbeck
X-ORIGINAL-URL:https://www.kgsarsbeck.de
X-WR-CALDESC:Events for KGS Arsbeck
BEGIN:VEVENT
DTSTART;TZID=Europe/Berlin:20240429T080000
DTEND;TZID=Europe/Berlin:20240429T170000
DTSTAMP:20260424T083110
CREATED:20230727T003153Z
LAST-MODIFIED:20230727T003153Z
UID:13805-1714377600-1714410000@www.kgsarsbeck.de
SUMMARY:Koningsdag (verschoben vom 27.4.)
DESCRIPTION:Wir feiern als Euregio-Profil-Schule diesen Tag zu Ehren des niederländischen Königs. \n
URL:https://www.kgsarsbeck.de/termin/koningsdag-verschoben-vom-27-4/
END:VEVENT
END:VCALENDAR