BEGIN:VCALENDAR
VERSION:2.0
PRODID:-//KGS Arsbeck - ECPv4.6.8//NONSGML v1.0//EN
CALSCALE:GREGORIAN
METHOD:PUBLISH
X-WR-CALNAME:KGS Arsbeck
X-ORIGINAL-URL:https://www.kgsarsbeck.de
X-WR-CALDESC:Events for KGS Arsbeck
BEGIN:VEVENT
DTSTART;TZID=Europe/Berlin:20240701T100000
DTEND;TZID=Europe/Berlin:20240701T113000
DTSTAMP:20260424T082616
CREATED:20210822T115429Z
LAST-MODIFIED:20230727T005515Z
UID:12665-1719828000-1719833400@www.kgsarsbeck.de
SUMMARY:Lesezeit
DESCRIPTION:
URL:https://www.kgsarsbeck.de/termin/lesezeit-10/
END:VEVENT
END:VCALENDAR