BEGIN:VCALENDAR
VERSION:2.0
PRODID:-//KGS Arsbeck - ECPv4.6.8//NONSGML v1.0//EN
CALSCALE:GREGORIAN
METHOD:PUBLISH
X-WR-CALNAME:KGS Arsbeck
X-ORIGINAL-URL:https://www.kgsarsbeck.de
X-WR-CALDESC:Events for KGS Arsbeck
BEGIN:VEVENT
DTSTART;TZID=Europe/Berlin:20240214T100000
DTEND;TZID=Europe/Berlin:20240214T113000
DTSTAMP:20260424T063720
CREATED:20210822T115533Z
LAST-MODIFIED:20230726T231421Z
UID:12669-1707904800-1707910200@www.kgsarsbeck.de
SUMMARY:Lesezeit
DESCRIPTION:
URL:https://www.kgsarsbeck.de/termin/lesezeit-13/
END:VEVENT
END:VCALENDAR