BEGIN:VCALENDAR
VERSION:2.0
PRODID:-//KGS Arsbeck - ECPv4.6.8//NONSGML v1.0//EN
CALSCALE:GREGORIAN
METHOD:PUBLISH
X-WR-CALNAME:KGS Arsbeck
X-ORIGINAL-URL:https://www.kgsarsbeck.de
X-WR-CALDESC:Events for KGS Arsbeck
BEGIN:VEVENT
DTSTART;TZID=Europe/Berlin:20240126T100000
DTEND;TZID=Europe/Berlin:20240126T113000
DTSTAMP:20260424T022221
CREATED:20210822T120029Z
LAST-MODIFIED:20230727T001943Z
UID:12683-1706263200-1706268600@www.kgsarsbeck.de
SUMMARY:Lesezeit
DESCRIPTION:
URL:https://www.kgsarsbeck.de/termin/lesezeit-16/
END:VEVENT
END:VCALENDAR