BEGIN:VCALENDAR
VERSION:2.0
PRODID:-//KGS Arsbeck - ECPv4.6.8//NONSGML v1.0//EN
CALSCALE:GREGORIAN
METHOD:PUBLISH
X-WR-CALNAME:KGS Arsbeck
X-ORIGINAL-URL:https://www.kgsarsbeck.de
X-WR-CALDESC:Events for KGS Arsbeck
BEGIN:VEVENT
DTSTART;VALUE=DATE:20170714
DTEND;VALUE=DATE:20170715
DTSTAMP:20260424T104448
CREATED:20170626T200959Z
LAST-MODIFIED:20170626T200959Z
UID:6579-1499990400-1500076799@www.kgsarsbeck.de
SUMMARY:Letzter Schultag vor den Sommerferien
DESCRIPTION:Unterrichtsende nach der 3. Stunde \nWIR WÜNSCHEN WUNDERSCHÖNE SOMMFERIEN \n
URL:https://www.kgsarsbeck.de/termin/letzter-schultag-vor-den-sommerferien/
END:VEVENT
END:VCALENDAR