BEGIN:VCALENDAR
VERSION:2.0
PRODID:-//KGS Arsbeck - ECPv4.6.8//NONSGML v1.0//EN
CALSCALE:GREGORIAN
METHOD:PUBLISH
X-WR-CALNAME:KGS Arsbeck
X-ORIGINAL-URL:https://www.kgsarsbeck.de
X-WR-CALDESC:Events for KGS Arsbeck
BEGIN:VEVENT
DTSTART;VALUE=DATE:20230501
DTEND;VALUE=DATE:20230502
DTSTAMP:20260424T034057
CREATED:20210822T120502Z
LAST-MODIFIED:20230727T003748Z
UID:12694-1682899200-1682985599@www.kgsarsbeck.de
SUMMARY:Maifeiertag
DESCRIPTION:
URL:https://www.kgsarsbeck.de/termin/maifeiertag/
END:VEVENT
END:VCALENDAR