BEGIN:VCALENDAR
VERSION:2.0
PRODID:-//KGS Arsbeck - ECPv4.6.8//NONSGML v1.0//EN
CALSCALE:GREGORIAN
METHOD:PUBLISH
X-WR-CALNAME:KGS Arsbeck
X-ORIGINAL-URL:https://www.kgsarsbeck.de
X-WR-CALDESC:Events for KGS Arsbeck
BEGIN:VEVENT
DTSTART;TZID=Europe/Berlin:20230905T100000
DTEND;TZID=Europe/Berlin:20230908T130000
DTSTAMP:20260424T101624
CREATED:20180827T191724Z
LAST-MODIFIED:20230726T234152Z
UID:8560-1693908000-1694178000@www.kgsarsbeck.de
SUMMARY:Mathe schützt nicht vor Ertrinken
DESCRIPTION:Projekt des Schulträgers in Kooperation mit den Schwimmvereinen zur Förderung der Schwimmfähigkeit der Schüler und Schülerinnen des Jahrgangs 3. \n
URL:https://www.kgsarsbeck.de/termin/mathe-schuetzt-nicht-vor-ertrinken/
END:VEVENT
END:VCALENDAR