BEGIN:VCALENDAR
VERSION:2.0
PRODID:-//KGS Arsbeck - ECPv4.6.8//NONSGML v1.0//EN
CALSCALE:GREGORIAN
METHOD:PUBLISH
X-WR-CALNAME:KGS Arsbeck
X-ORIGINAL-URL:https://www.kgsarsbeck.de
X-WR-CALDESC:Events for KGS Arsbeck
BEGIN:VEVENT
DTSTART;TZID=Europe/Berlin:20161024T080000
DTEND;TZID=Europe/Berlin:20161028T130000
DTSTAMP:20260424T095455
CREATED:20160830T203925Z
LAST-MODIFIED:20160830T203925Z
UID:4969-1477296000-1477659600@www.kgsarsbeck.de
SUMMARY:Methodentage
DESCRIPTION:
URL:https://www.kgsarsbeck.de/termin/methodentage/
END:VEVENT
END:VCALENDAR