BEGIN:VCALENDAR
VERSION:2.0
PRODID:-//KGS Arsbeck - ECPv4.6.8//NONSGML v1.0//EN
CALSCALE:GREGORIAN
METHOD:PUBLISH
X-WR-CALNAME:KGS Arsbeck
X-ORIGINAL-URL:https://www.kgsarsbeck.de
X-WR-CALDESC:Events for KGS Arsbeck
BEGIN:VEVENT
DTSTART;VALUE=DATE:20221215
DTEND;VALUE=DATE:20221216
DTSTAMP:20260424T051538
CREATED:20160911T135745Z
LAST-MODIFIED:20220914T221013Z
UID:5081-1671062400-1671062400@www.kgsarsbeck.de
SUMMARY:Theaterfahrt der Schule
DESCRIPTION:OGS (A. und W.) geschlossen wg. ganztägiger Fortbildung \n
URL:https://www.kgsarsbeck.de/termin/ogs-a-und-w-geschlossen-wg-ganztaegiger-1-hilfe-fortbildung-theaterfahrt/
END:VEVENT
END:VCALENDAR